BEGIN:VCALENDAR
VERSION:2.0
PRODID:-//Hertford and Ware Deanery - ECPv6.15.20//NONSGML v1.0//EN
CALSCALE:GREGORIAN
METHOD:PUBLISH
X-ORIGINAL-URL:https://hertfordandwaredeanery.org.uk
X-WR-CALDESC:Events for Hertford and Ware Deanery
REFRESH-INTERVAL;VALUE=DURATION:PT1H
X-Robots-Tag:noindex
X-PUBLISHED-TTL:PT1H
BEGIN:VTIMEZONE
TZID:Europe/London
BEGIN:DAYLIGHT
TZOFFSETFROM:+0000
TZOFFSETTO:+0100
TZNAME:BST
DTSTART:20240331T010000
END:DAYLIGHT
BEGIN:STANDARD
TZOFFSETFROM:+0100
TZOFFSETTO:+0000
TZNAME:GMT
DTSTART:20241027T010000
END:STANDARD
BEGIN:DAYLIGHT
TZOFFSETFROM:+0000
TZOFFSETTO:+0100
TZNAME:BST
DTSTART:20250330T010000
END:DAYLIGHT
BEGIN:STANDARD
TZOFFSETFROM:+0100
TZOFFSETTO:+0000
TZNAME:GMT
DTSTART:20251026T010000
END:STANDARD
BEGIN:DAYLIGHT
TZOFFSETFROM:+0000
TZOFFSETTO:+0100
TZNAME:BST
DTSTART:20260329T010000
END:DAYLIGHT
BEGIN:STANDARD
TZOFFSETFROM:+0100
TZOFFSETTO:+0000
TZNAME:GMT
DTSTART:20261025T010000
END:STANDARD
END:VTIMEZONE
BEGIN:VEVENT
DTSTART;TZID=Europe/London:20250618T130000
DTEND;TZID=Europe/London:20250618T143000
DTSTAMP:20260420T160902
CREATED:20250412T125809Z
LAST-MODIFIED:20250527T073644Z
UID:2579-1750251600-1750257000@hertfordandwaredeanery.org.uk
SUMMARY:Village Ministers
DESCRIPTION:A meeting of the clergy who minister in the villages of our deanery
URL:https://hertfordandwaredeanery.org.uk/event/village-ministers-32/
LOCATION:St Mary’s St Margarets\, Hoddesdon Road\, Stanstead St Margarets\, Ware\, Hertfordshire\, SG12 8EG\, United Kingdom
CATEGORIES:Chapter
ATTACH;FMTTYPE=image/jpeg:https://hertfordandwaredeanery.org.uk/wp-content/uploads/2024/02/vicars-1.jpg
END:VEVENT
END:VCALENDAR