BEGIN:VCALENDAR
VERSION:2.0
PRODID:-//Hertford and Ware Deanery - ECPv6.15.20//NONSGML v1.0//EN
CALSCALE:GREGORIAN
METHOD:PUBLISH
X-WR-CALNAME:Hertford and Ware Deanery
X-ORIGINAL-URL:https://hertfordandwaredeanery.org.uk
X-WR-CALDESC:Events for Hertford and Ware Deanery
REFRESH-INTERVAL;VALUE=DURATION:PT1H
X-Robots-Tag:noindex
X-PUBLISHED-TTL:PT1H
BEGIN:VTIMEZONE
TZID:Europe/London
BEGIN:DAYLIGHT
TZOFFSETFROM:+0000
TZOFFSETTO:+0100
TZNAME:BST
DTSTART:20170326T010000
END:DAYLIGHT
BEGIN:STANDARD
TZOFFSETFROM:+0100
TZOFFSETTO:+0000
TZNAME:GMT
DTSTART:20171029T010000
END:STANDARD
BEGIN:DAYLIGHT
TZOFFSETFROM:+0000
TZOFFSETTO:+0100
TZNAME:BST
DTSTART:20180325T010000
END:DAYLIGHT
BEGIN:STANDARD
TZOFFSETFROM:+0100
TZOFFSETTO:+0000
TZNAME:GMT
DTSTART:20181028T010000
END:STANDARD
BEGIN:DAYLIGHT
TZOFFSETFROM:+0000
TZOFFSETTO:+0100
TZNAME:BST
DTSTART:20190331T010000
END:DAYLIGHT
BEGIN:STANDARD
TZOFFSETFROM:+0100
TZOFFSETTO:+0000
TZNAME:GMT
DTSTART:20191027T010000
END:STANDARD
BEGIN:DAYLIGHT
TZOFFSETFROM:+0000
TZOFFSETTO:+0100
TZNAME:BST
DTSTART:20200329T010000
END:DAYLIGHT
BEGIN:STANDARD
TZOFFSETFROM:+0100
TZOFFSETTO:+0000
TZNAME:GMT
DTSTART:20201025T010000
END:STANDARD
BEGIN:DAYLIGHT
TZOFFSETFROM:+0000
TZOFFSETTO:+0100
TZNAME:BST
DTSTART:20210328T010000
END:DAYLIGHT
BEGIN:STANDARD
TZOFFSETFROM:+0100
TZOFFSETTO:+0000
TZNAME:GMT
DTSTART:20211031T010000
END:STANDARD
BEGIN:DAYLIGHT
TZOFFSETFROM:+0000
TZOFFSETTO:+0100
TZNAME:BST
DTSTART:20220327T010000
END:DAYLIGHT
BEGIN:STANDARD
TZOFFSETFROM:+0100
TZOFFSETTO:+0000
TZNAME:GMT
DTSTART:20221030T010000
END:STANDARD
BEGIN:DAYLIGHT
TZOFFSETFROM:+0000
TZOFFSETTO:+0100
TZNAME:BST
DTSTART:20230326T010000
END:DAYLIGHT
BEGIN:STANDARD
TZOFFSETFROM:+0100
TZOFFSETTO:+0000
TZNAME:GMT
DTSTART:20231029T010000
END:STANDARD
BEGIN:DAYLIGHT
TZOFFSETFROM:+0000
TZOFFSETTO:+0100
TZNAME:BST
DTSTART:20240331T010000
END:DAYLIGHT
BEGIN:STANDARD
TZOFFSETFROM:+0100
TZOFFSETTO:+0000
TZNAME:GMT
DTSTART:20241027T010000
END:STANDARD
END:VTIMEZONE
BEGIN:VEVENT
DTSTART;TZID=Europe/London:20231107T183000
DTEND;TZID=Europe/London:20231107T213000
DTSTAMP:20260420T191836
CREATED:20221122T144306Z
LAST-MODIFIED:20230704T164247Z
UID:1485-1699381800-1699392600@hertfordandwaredeanery.org.uk
SUMMARY:Confirmation
DESCRIPTION:With Bishop Christine Hardman \nEvening – time TBC
URL:https://hertfordandwaredeanery.org.uk/event/confirmation-9/
LOCATION:St Mary’s Ware\, Church Street\, Ware\, Hertfordshire\, SG12 9EH\, United Kingdom
CATEGORIES:Discipleship
ATTACH;FMTTYPE=image/png:https://hertfordandwaredeanery.org.uk/wp-content/uploads/2022/11/Confirmation.png
END:VEVENT
BEGIN:VEVENT
DTSTART;TZID=Europe/London:20231029T150000
DTEND;TZID=Europe/London:20231029T163000
DTSTAMP:20260420T191836
CREATED:20230928T141558Z
LAST-MODIFIED:20230928T141558Z
UID:1990-1698591600-1698597000@hertfordandwaredeanery.org.uk
SUMMARY:Forest Church
DESCRIPTION:Connecting with something greater in the great outdoors\nA new monthly service on Sunday afternoons for all ages in all weather. You’re invited to opt into different activities such as Mindfulness\, Making and Storytelling\, ending with time around the fire to sing\, pray and eat together. The service is run by both St Mary’s and St Andrew’s churches. \nWhat to bring\nRemember to dress appropriately and bring a camping chair\, a snack and something to drink. \nPlease note \n\nUnaccompanied children must be at least 14 years old.\nNo dogs permitted.
URL:https://hertfordandwaredeanery.org.uk/event/forest-church/
LOCATION:St Joseph’s in the Park\, St Marys Ln\, Hertingfordbury\, Hertfordshire\, SG14 2LX\, United Kingdom
CATEGORIES:Children,Discipleship,Outreach,Worship
ATTACH;FMTTYPE=image/jpeg:https://hertfordandwaredeanery.org.uk/wp-content/uploads/2023/09/Forest-Church.jpg
END:VEVENT
BEGIN:VEVENT
DTSTART;TZID=Europe/London:20230205T180000
DTEND;TZID=Europe/London:20230205T193000
DTSTAMP:20260420T191836
CREATED:20221122T143903Z
LAST-MODIFIED:20221122T143903Z
UID:1479-1675620000-1675625400@hertfordandwaredeanery.org.uk
SUMMARY:Confirmation
DESCRIPTION:With Bishop Richard of Bedford
URL:https://hertfordandwaredeanery.org.uk/event/confirmation-7/
LOCATION:St John the Baptist\, Widford\, Ware Rd\, Widford\, Ware\, Hertfordshire\, SG12 8RL
CATEGORIES:Discipleship
END:VEVENT
BEGIN:VEVENT
DTSTART;TZID=Europe/London:20220818T193000
DTEND;TZID=Europe/London:20220818T210000
DTSTAMP:20260420T191836
CREATED:20220816T164545Z
LAST-MODIFIED:20220816T164545Z
UID:1262-1660851000-1660856400@hertfordandwaredeanery.org.uk
SUMMARY:Confirmation
DESCRIPTION:
URL:https://hertfordandwaredeanery.org.uk/event/confirmation-4/
LOCATION:St Dunstan\, Hunsdon\, St Dunstan's Church\, Church Lane\, Hunsdon\, Ware\, Hertfordshire\, SG12 8PP\, United Kingdom
CATEGORIES:Discipleship
END:VEVENT
BEGIN:VEVENT
DTSTART;TZID=Europe/London:20220316T190000
DTEND;TZID=Europe/London:20220316T210000
DTSTAMP:20260420T191836
CREATED:20220126T170958Z
LAST-MODIFIED:20220126T170958Z
UID:1132-1647457200-1647464400@hertfordandwaredeanery.org.uk
SUMMARY:Confirmation
DESCRIPTION:
URL:https://hertfordandwaredeanery.org.uk/event/confirmation-5/
LOCATION:St Mary’s Ware\, Church Street\, Ware\, Hertfordshire\, SG12 9EH\, United Kingdom
CATEGORIES:Discipleship
END:VEVENT
BEGIN:VEVENT
DTSTART;TZID=Europe/London:20220313T080000
DTEND;TZID=Europe/London:20220313T170000
DTSTAMP:20260420T191836
CREATED:20220131T144336Z
LAST-MODIFIED:20220131T144336Z
UID:1138-1647158400-1647190800@hertfordandwaredeanery.org.uk
SUMMARY:Confirmation
DESCRIPTION:Time and venue to be added.\nContact Revd Musiwacho for detail.
URL:https://hertfordandwaredeanery.org.uk/event/confirmation-6/
LOCATION:Hertfordshire
CATEGORIES:Discipleship
END:VEVENT
BEGIN:VEVENT
DTSTART;TZID=Europe/London:20220116T190000
DTEND;TZID=Europe/London:20220116T210000
DTSTAMP:20260420T191836
CREATED:20210708T121408Z
LAST-MODIFIED:20211216T124042Z
UID:1004-1642359600-1642366800@hertfordandwaredeanery.org.uk
SUMMARY:Confirmation
DESCRIPTION:With Bishop Alan of St Albans
URL:https://hertfordandwaredeanery.org.uk/event/confirmation-3/
LOCATION:St Andrew Stanstead Abbots\, St. Andrew's Church\, Cappell Lane\, Stanstead Abbotts\, Hertfordshire\, SG12 8BS\, United Kingdom
CATEGORIES:Discipleship
END:VEVENT
BEGIN:VEVENT
DTSTART;TZID=Europe/London:20211010T183000
DTEND;TZID=Europe/London:20211010T200000
DTSTAMP:20260420T191836
CREATED:20201031T102223Z
LAST-MODIFIED:20210708T134642Z
UID:838-1633890600-1633896000@hertfordandwaredeanery.org.uk
SUMMARY:Confirmation
DESCRIPTION:With the Bishop of St Albans \n 
URL:https://hertfordandwaredeanery.org.uk/event/confirmation-2/
LOCATION:Christ Church Ware\, Christ Church\, New Road\, Ware\, Hertfordshire\, SG12 7BZ\, United Kingdom
CATEGORIES:Discipleship
END:VEVENT
BEGIN:VEVENT
DTSTART;TZID=Europe/London:20191107T200000
DTEND;TZID=Europe/London:20191107T220000
DTSTAMP:20260420T191836
CREATED:20191020T153315Z
LAST-MODIFIED:20191102T231221Z
UID:674-1573156800-1573164000@hertfordandwaredeanery.org.uk
SUMMARY:POSTPONED ... What is a Good Death?
DESCRIPTION:Postponed as a result of unforeseen circumstances.\nNew date to be announced soon – watch this space… \nAn evening with Rachel Allen\, Spiritual Care Lead at Isabel Hospice: a space to be honest about those things we find difficult or fearful around death; a time to think about how we would like to end our time on Planet Earth; an opportunity to connect with our own sources of comfort\, strength and hope. Ultimately\, it’s an evening about life.  And it’s for people of all religions and none.
URL:https://hertfordandwaredeanery.org.uk/event/what-is-a-good-death/
LOCATION:St Andrew Hertford\, St Andrew Street\, Hertford\, Hertfordshire\, SG14 1HZ\, United Kingdom
CATEGORIES:Discipleship,Outreach
END:VEVENT
BEGIN:VEVENT
DTSTART;TZID=Europe/London:20180929T150000
DTEND;TZID=Europe/London:20180929T190000
DTSTAMP:20260420T191836
CREATED:20180510T105004Z
LAST-MODIFIED:20180604T121742Z
UID:301-1538233200-1538247600@hertfordandwaredeanery.org.uk
SUMMARY:Walden Bible Focus
DESCRIPTION:“Out of Step?  Christ-like living in today’s world”\nJohn Risbridger from Above Bar Church in Southampton will unpack teaching on holy living from 1 Peter chapters 1 and 2.  See website for more information. \nThe event is free to attend.  Donations are invited.
URL:https://hertfordandwaredeanery.org.uk/event/walden-bible-focus/
LOCATION:Saffron Walden URC\, United Reformed Church\, Abbey Lane\, Saffron Walden\, CB10 1AG\, United Kingdom
CATEGORIES:Discipleship
ORGANIZER;CN="Walden Bible Focus":MAILTO:swbible.focus@gmail.com
END:VEVENT
END:VCALENDAR