BEGIN:VCALENDAR
VERSION:2.0
PRODID:-//Hertford and Ware Deanery - ECPv6.15.20//NONSGML v1.0//EN
CALSCALE:GREGORIAN
METHOD:PUBLISH
X-ORIGINAL-URL:https://hertfordandwaredeanery.org.uk
X-WR-CALDESC:Events for Hertford and Ware Deanery
REFRESH-INTERVAL;VALUE=DURATION:PT1H
X-Robots-Tag:noindex
X-PUBLISHED-TTL:PT1H
BEGIN:VTIMEZONE
TZID:Europe/London
BEGIN:DAYLIGHT
TZOFFSETFROM:+0000
TZOFFSETTO:+0100
TZNAME:BST
DTSTART:20220327T010000
END:DAYLIGHT
BEGIN:STANDARD
TZOFFSETFROM:+0100
TZOFFSETTO:+0000
TZNAME:GMT
DTSTART:20221030T010000
END:STANDARD
BEGIN:DAYLIGHT
TZOFFSETFROM:+0000
TZOFFSETTO:+0100
TZNAME:BST
DTSTART:20230326T010000
END:DAYLIGHT
BEGIN:STANDARD
TZOFFSETFROM:+0100
TZOFFSETTO:+0000
TZNAME:GMT
DTSTART:20231029T010000
END:STANDARD
BEGIN:DAYLIGHT
TZOFFSETFROM:+0000
TZOFFSETTO:+0100
TZNAME:BST
DTSTART:20240331T010000
END:DAYLIGHT
BEGIN:STANDARD
TZOFFSETFROM:+0100
TZOFFSETTO:+0000
TZNAME:GMT
DTSTART:20241027T010000
END:STANDARD
BEGIN:DAYLIGHT
TZOFFSETFROM:+0000
TZOFFSETTO:+0100
TZNAME:BST
DTSTART:20250330T010000
END:DAYLIGHT
BEGIN:STANDARD
TZOFFSETFROM:+0100
TZOFFSETTO:+0000
TZNAME:GMT
DTSTART:20251026T010000
END:STANDARD
BEGIN:DAYLIGHT
TZOFFSETFROM:+0000
TZOFFSETTO:+0100
TZNAME:BST
DTSTART:20260329T010000
END:DAYLIGHT
BEGIN:STANDARD
TZOFFSETFROM:+0100
TZOFFSETTO:+0000
TZNAME:GMT
DTSTART:20261025T010000
END:STANDARD
END:VTIMEZONE
BEGIN:VEVENT
DTSTART;TZID=Europe/London:20250322T170000
DTEND;TZID=Europe/London:20250322T190000
DTSTAMP:20260420T150854
CREATED:20250219T093157Z
LAST-MODIFIED:20250219T093157Z
UID:2548-1742662800-1742670000@hertfordandwaredeanery.org.uk
SUMMARY:Licensing of Sarah Forrest
DESCRIPTION:A service of celebration as Revd Dr Sarah Forrest\, Priest-in-Charge of the benefice of Great Amwell w. St Margarets and Stanstead Abbots is licensed as Vicar of the same. \nDo join us in prayer at this important moment in the life of this benefice. \nNB. Because of space restrictions and the importance of ensuring local residents can attend\, this event will be limited to invitation only.
URL:https://hertfordandwaredeanery.org.uk/event/licensing-of-sarah-forrest/
LOCATION:St Andrew Stanstead Abbots\, St. Andrew's Church\, Cappell Lane\, Stanstead Abbotts\, Hertfordshire\, SG12 8BS\, United Kingdom
CATEGORIES:Chapter,Mission,Synod
ATTACH;FMTTYPE=image/jpeg:https://hertfordandwaredeanery.org.uk/wp-content/uploads/2025/01/Keys-16x9-1.jpg
END:VEVENT
BEGIN:VEVENT
DTSTART;TZID=Europe/London:20241016T193000
DTEND;TZID=Europe/London:20241016T220000
DTSTAMP:20260420T150854
CREATED:20240910T174036Z
LAST-MODIFIED:20240910T174036Z
UID:2351-1729107000-1729116000@hertfordandwaredeanery.org.uk
SUMMARY:Cups on a String
DESCRIPTION:After the success of our 2022 tour of My Place\, Riding Lights Theatre Company is pleased to announce Cups on a String by Bridget Foreman\, a new play touring in partnership with Transforming Lives for Good\, a Christian charity that helps churches to bring hope and a future to struggling children. \nAlongside the performance of Cups on a String\, the evening will provide an opportunity to hear about the work of Transforming Lives for Good\, and how each of us can play a part in supporting the lives of struggling children. \nThis event is suitable for adults and children over the age of 14. \n(10pm finish time is a guess – assume you’re out for the evening!) \nDownload the flyer here: Cups on a String \nBook Tickets from Riding Lights directly (see weblink).
URL:https://hertfordandwaredeanery.org.uk/event/cups-on-a-string/
LOCATION:St Andrew Stanstead Abbots\, St. Andrew's Church\, Cappell Lane\, Stanstead Abbotts\, Hertfordshire\, SG12 8BS\, United Kingdom
CATEGORIES:Entertainment,Mission
ATTACH;FMTTYPE=image/jpeg:https://hertfordandwaredeanery.org.uk/wp-content/uploads/2024/09/CupsonaString.jpg
END:VEVENT
BEGIN:VEVENT
DTSTART;TZID=Europe/London:20240904T193000
DTEND;TZID=Europe/London:20240904T220000
DTSTAMP:20260420T150854
CREATED:20240624T100855Z
LAST-MODIFIED:20240624T100855Z
UID:2285-1725478200-1725487200@hertfordandwaredeanery.org.uk
SUMMARY:Licensing of Simon Cutmore
DESCRIPTION:You are warmly invited to join us for the Licensing of Revd Simon Cutmore to the cure of souls in the parish of All Saints\, Hertford. \nPlease join us in prayer for Simon and his family and for the parish at this important moment.
URL:https://hertfordandwaredeanery.org.uk/event/licensing-of-simon-cutmore/
LOCATION:All Saints Church\, Queen's Road\, Hertford\, Hertfordshire\, SG13 8AY\, United Kingdom
CATEGORIES:Chapter,Mission,Synod
ATTACH;FMTTYPE=image/jpeg:https://hertfordandwaredeanery.org.uk/wp-content/uploads/2023/05/welcome-cropped-900.jpg
END:VEVENT
BEGIN:VEVENT
DTSTART;TZID=Europe/London:20240511T170000
DTEND;TZID=Europe/London:20240511T193000
DTSTAMP:20260420T150854
CREATED:20240407T105349Z
LAST-MODIFIED:20240407T105349Z
UID:2189-1715446800-1715455800@hertfordandwaredeanery.org.uk
SUMMARY:Licensing of Tim Hall
DESCRIPTION:We are delighted to welcome Revd Tim Hall to the ministry at High Cross and Thundridge. \nDo join us in prayer at this important moment in the life of this benefice. \nNB. Because of space restrictions and the importance of ensuring local residents can attend\, this event will be limited to invitation only.
URL:https://hertfordandwaredeanery.org.uk/event/licensing-of-tim-hall/
LOCATION:High Cross Parish Church\, Parish Church of Saint John's High Cross\, Ware\, Hertfordshire\, SG11 1AZ\, United Kingdom
CATEGORIES:Chapter,Mission,Synod
ATTACH;FMTTYPE=image/jpeg:https://hertfordandwaredeanery.org.uk/wp-content/uploads/2023/05/welcome-cropped-900.jpg
END:VEVENT
BEGIN:VEVENT
DTSTART;TZID=Europe/London:20231007T100000
DTEND;TZID=Europe/London:20231007T143000
DTSTAMP:20260420T150854
CREATED:20230928T132957Z
LAST-MODIFIED:20230928T132957Z
UID:1974-1696672800-1696689000@hertfordandwaredeanery.org.uk
SUMMARY:Waterways Chaplaincy Information Day
DESCRIPTION:An event to help people what the Waterways Chaplaincy stands for\, who it helps and how it aims to come alongside people in God’s love on the towpath. \nDownload the poster here: Information day Saturday 7th October 2023
URL:https://hertfordandwaredeanery.org.uk/event/waterways-chaplaincy-information-day/
LOCATION:Wormley Free Church\, Slipe Lane\, Turnford\, Broxbourne\, Hertfordshire\, EN10 6AA\, United Kingdom
CATEGORIES:Mission,training
END:VEVENT
END:VCALENDAR