BEGIN:VCALENDAR
VERSION:2.0
PRODID:-//Hertford and Ware Deanery - ECPv6.15.20//NONSGML v1.0//EN
CALSCALE:GREGORIAN
METHOD:PUBLISH
X-ORIGINAL-URL:https://hertfordandwaredeanery.org.uk
X-WR-CALDESC:Events for Hertford and Ware Deanery
REFRESH-INTERVAL;VALUE=DURATION:PT1H
X-Robots-Tag:noindex
X-PUBLISHED-TTL:PT1H
BEGIN:VTIMEZONE
TZID:Europe/London
BEGIN:DAYLIGHT
TZOFFSETFROM:+0000
TZOFFSETTO:+0100
TZNAME:BST
DTSTART:20230326T010000
END:DAYLIGHT
BEGIN:STANDARD
TZOFFSETFROM:+0100
TZOFFSETTO:+0000
TZNAME:GMT
DTSTART:20231029T010000
END:STANDARD
BEGIN:DAYLIGHT
TZOFFSETFROM:+0000
TZOFFSETTO:+0100
TZNAME:BST
DTSTART:20240331T010000
END:DAYLIGHT
BEGIN:STANDARD
TZOFFSETFROM:+0100
TZOFFSETTO:+0000
TZNAME:GMT
DTSTART:20241027T010000
END:STANDARD
BEGIN:DAYLIGHT
TZOFFSETFROM:+0000
TZOFFSETTO:+0100
TZNAME:BST
DTSTART:20250330T010000
END:DAYLIGHT
BEGIN:STANDARD
TZOFFSETFROM:+0100
TZOFFSETTO:+0000
TZNAME:GMT
DTSTART:20251026T010000
END:STANDARD
END:VTIMEZONE
BEGIN:VEVENT
DTSTART;TZID=Europe/London:20240511T170000
DTEND;TZID=Europe/London:20240511T193000
DTSTAMP:20260421T125240
CREATED:20240407T105349Z
LAST-MODIFIED:20240407T105349Z
UID:2189-1715446800-1715455800@hertfordandwaredeanery.org.uk
SUMMARY:Licensing of Tim Hall
DESCRIPTION:We are delighted to welcome Revd Tim Hall to the ministry at High Cross and Thundridge. \nDo join us in prayer at this important moment in the life of this benefice. \nNB. Because of space restrictions and the importance of ensuring local residents can attend\, this event will be limited to invitation only.
URL:https://hertfordandwaredeanery.org.uk/event/licensing-of-tim-hall/
LOCATION:High Cross Parish Church\, Parish Church of Saint John's High Cross\, Ware\, Hertfordshire\, SG11 1AZ\, United Kingdom
CATEGORIES:Chapter,Mission,Synod
ATTACH;FMTTYPE=image/jpeg:https://hertfordandwaredeanery.org.uk/wp-content/uploads/2023/05/welcome-cropped-900.jpg
END:VEVENT
END:VCALENDAR