BEGIN:VCALENDAR
VERSION:2.0
PRODID:-//Hertford and Ware Deanery - ECPv6.15.20//NONSGML v1.0//EN
CALSCALE:GREGORIAN
METHOD:PUBLISH
X-WR-CALNAME:Hertford and Ware Deanery
X-ORIGINAL-URL:https://hertfordandwaredeanery.org.uk
X-WR-CALDESC:Events for Hertford and Ware Deanery
REFRESH-INTERVAL;VALUE=DURATION:PT1H
X-Robots-Tag:noindex
X-PUBLISHED-TTL:PT1H
BEGIN:VTIMEZONE
TZID:Europe/London
BEGIN:DAYLIGHT
TZOFFSETFROM:+0000
TZOFFSETTO:+0100
TZNAME:BST
DTSTART:20240331T010000
END:DAYLIGHT
BEGIN:STANDARD
TZOFFSETFROM:+0100
TZOFFSETTO:+0000
TZNAME:GMT
DTSTART:20241027T010000
END:STANDARD
BEGIN:DAYLIGHT
TZOFFSETFROM:+0000
TZOFFSETTO:+0100
TZNAME:BST
DTSTART:20250330T010000
END:DAYLIGHT
BEGIN:STANDARD
TZOFFSETFROM:+0100
TZOFFSETTO:+0000
TZNAME:GMT
DTSTART:20251026T010000
END:STANDARD
BEGIN:DAYLIGHT
TZOFFSETFROM:+0000
TZOFFSETTO:+0100
TZNAME:BST
DTSTART:20260329T010000
END:DAYLIGHT
BEGIN:STANDARD
TZOFFSETFROM:+0100
TZOFFSETTO:+0000
TZNAME:GMT
DTSTART:20261025T010000
END:STANDARD
BEGIN:DAYLIGHT
TZOFFSETFROM:+0000
TZOFFSETTO:+0100
TZNAME:BST
DTSTART:20270328T010000
END:DAYLIGHT
BEGIN:STANDARD
TZOFFSETFROM:+0100
TZOFFSETTO:+0000
TZNAME:GMT
DTSTART:20271031T010000
END:STANDARD
END:VTIMEZONE
BEGIN:VEVENT
DTSTART;TZID=Europe/London:20250322T170000
DTEND;TZID=Europe/London:20250322T190000
DTSTAMP:20260423T094239
CREATED:20250219T093157Z
LAST-MODIFIED:20250219T093157Z
UID:2548-1742662800-1742670000@hertfordandwaredeanery.org.uk
SUMMARY:Licensing of Sarah Forrest
DESCRIPTION:A service of celebration as Revd Dr Sarah Forrest\, Priest-in-Charge of the benefice of Great Amwell w. St Margarets and Stanstead Abbots is licensed as Vicar of the same. \nDo join us in prayer at this important moment in the life of this benefice. \nNB. Because of space restrictions and the importance of ensuring local residents can attend\, this event will be limited to invitation only.
URL:https://hertfordandwaredeanery.org.uk/event/licensing-of-sarah-forrest/
LOCATION:St Andrew Stanstead Abbots\, St. Andrew's Church\, Cappell Lane\, Stanstead Abbotts\, Hertfordshire\, SG12 8BS\, United Kingdom
CATEGORIES:Chapter,Mission,Synod
ATTACH;FMTTYPE=image/jpeg:https://hertfordandwaredeanery.org.uk/wp-content/uploads/2025/01/Keys-16x9-1.jpg
END:VEVENT
BEGIN:VEVENT
DTSTART;TZID=Europe/London:20250324T193000
DTEND;TZID=Europe/London:20250324T213000
DTSTAMP:20260423T094239
CREATED:20240416T191824Z
LAST-MODIFIED:20250204T143655Z
UID:2202-1742844600-1742851800@hertfordandwaredeanery.org.uk
SUMMARY:Deanery Synod Meeting
DESCRIPTION:
URL:https://hertfordandwaredeanery.org.uk/event/deanery-synod-meeting-25/
LOCATION:Christ Church Ware\, Christ Church\, New Road\, Ware\, Hertfordshire\, SG12 7BZ\, United Kingdom
CATEGORIES:Synod
ATTACH;FMTTYPE=image/png:https://hertfordandwaredeanery.org.uk/wp-content/uploads/2022/01/meeting-gde6136200_1280.png
END:VEVENT
BEGIN:VEVENT
DTSTART;TZID=Europe/London:20250717T193000
DTEND;TZID=Europe/London:20250717T213000
DTSTAMP:20260423T094239
CREATED:20240416T191933Z
LAST-MODIFIED:20250527T073835Z
UID:2204-1752780600-1752787800@hertfordandwaredeanery.org.uk
SUMMARY:Deanery Synod Meeting
DESCRIPTION:Refreshments at 7:30pm \nAgenda from 7:45pm
URL:https://hertfordandwaredeanery.org.uk/event/deanery-synod-meeting-26/
LOCATION:Wilshere Hall\, St. Andrew's Church\, Cappell Ln\,\, Stanstead Abbotts\, Hertfordshire\, SG12 8BS\, United Kingdom
CATEGORIES:Synod
ATTACH;FMTTYPE=image/png:https://hertfordandwaredeanery.org.uk/wp-content/uploads/2022/01/meeting-gde6136200_1280.png
END:VEVENT
BEGIN:VEVENT
DTSTART;TZID=Europe/London:20251125T193000
DTEND;TZID=Europe/London:20251125T213000
DTSTAMP:20260423T094239
CREATED:20240416T192059Z
LAST-MODIFIED:20251001T145310Z
UID:2206-1764099000-1764106200@hertfordandwaredeanery.org.uk
SUMMARY:Deanery Synod Meeting
DESCRIPTION:
URL:https://hertfordandwaredeanery.org.uk/event/deanery-synod-meeting-27/
LOCATION:St Mary’s Ware\, Church Street\, Ware\, Hertfordshire\, SG12 9EH\, United Kingdom
CATEGORIES:Synod
ATTACH;FMTTYPE=image/png:https://hertfordandwaredeanery.org.uk/wp-content/uploads/2022/01/meeting-gde6136200_1280.png
END:VEVENT
BEGIN:VEVENT
DTSTART;TZID=Europe/London:20260323T193000
DTEND;TZID=Europe/London:20260323T213000
DTSTAMP:20260423T094239
CREATED:20241110T173434Z
LAST-MODIFIED:20251114T160231Z
UID:2445-1774294200-1774301400@hertfordandwaredeanery.org.uk
SUMMARY:Deanery Synod Meeting
DESCRIPTION:We welcome Revd Mark Rodell\, Deputy Director of Mission and Ministry\, for a Ministry Strategy Listening Exercise.
URL:https://hertfordandwaredeanery.org.uk/event/deanery-synod-meeting-28/
LOCATION:Christ Church Ware\, Christ Church\, New Road\, Ware\, Hertfordshire\, SG12 7BZ\, United Kingdom
CATEGORIES:Synod
ATTACH;FMTTYPE=image/png:https://hertfordandwaredeanery.org.uk/wp-content/uploads/2022/01/meeting-gde6136200_1280.png
END:VEVENT
BEGIN:VEVENT
DTSTART;TZID=Europe/London:20260716T193000
DTEND;TZID=Europe/London:20260716T213000
DTSTAMP:20260423T094239
CREATED:20241110T173552Z
LAST-MODIFIED:20260301T174620Z
UID:2447-1784230200-1784237400@hertfordandwaredeanery.org.uk
SUMMARY:Deanery Synod Meeting
DESCRIPTION:Including a barbecue social event.
URL:https://hertfordandwaredeanery.org.uk/event/deanery-synod-meeting-29/
LOCATION:St Mary’s Ware\, Church Street\, Ware\, Hertfordshire\, SG12 9EH\, United Kingdom
CATEGORIES:Synod
ATTACH;FMTTYPE=image/png:https://hertfordandwaredeanery.org.uk/wp-content/uploads/2022/01/meeting-gde6136200_1280.png
END:VEVENT
BEGIN:VEVENT
DTSTART;TZID=Europe/London:20261124T193000
DTEND;TZID=Europe/London:20261124T213000
DTSTAMP:20260423T094239
CREATED:20241110T173655Z
LAST-MODIFIED:20241110T173655Z
UID:2449-1795548600-1795555800@hertfordandwaredeanery.org.uk
SUMMARY:Deanery Synod Meeting
DESCRIPTION:
URL:https://hertfordandwaredeanery.org.uk/event/deanery-synod-meeting-30/
LOCATION:Hertfordshire
CATEGORIES:Synod
ATTACH;FMTTYPE=image/png:https://hertfordandwaredeanery.org.uk/wp-content/uploads/2022/01/meeting-gde6136200_1280.png
END:VEVENT
END:VCALENDAR